BEGIN:VCALENDAR
VERSION:2.0
PRODID:-//St Georges de Commiers - ECPv6.15.17//NONSGML v1.0//EN
CALSCALE:GREGORIAN
METHOD:PUBLISH
X-WR-CALNAME:St Georges de Commiers
X-ORIGINAL-URL:https://www.st-georges-de-commiers.fr
X-WR-CALDESC:Évènements pour St Georges de Commiers
REFRESH-INTERVAL;VALUE=DURATION:PT1H
X-Robots-Tag:noindex
X-PUBLISHED-TTL:PT1H
BEGIN:VTIMEZONE
TZID:Europe/Paris
BEGIN:DAYLIGHT
TZOFFSETFROM:+0100
TZOFFSETTO:+0200
TZNAME:CEST
DTSTART:20230326T010000
END:DAYLIGHT
BEGIN:STANDARD
TZOFFSETFROM:+0200
TZOFFSETTO:+0100
TZNAME:CET
DTSTART:20231029T010000
END:STANDARD
BEGIN:DAYLIGHT
TZOFFSETFROM:+0100
TZOFFSETTO:+0200
TZNAME:CEST
DTSTART:20240331T010000
END:DAYLIGHT
BEGIN:STANDARD
TZOFFSETFROM:+0200
TZOFFSETTO:+0100
TZNAME:CET
DTSTART:20241027T010000
END:STANDARD
BEGIN:DAYLIGHT
TZOFFSETFROM:+0100
TZOFFSETTO:+0200
TZNAME:CEST
DTSTART:20250330T010000
END:DAYLIGHT
BEGIN:STANDARD
TZOFFSETFROM:+0200
TZOFFSETTO:+0100
TZNAME:CET
DTSTART:20251026T010000
END:STANDARD
END:VTIMEZONE
BEGIN:VEVENT
DTSTART;VALUE=DATE:20240722
DTEND;VALUE=DATE:20241223
DTSTAMP:20260419T155334
CREATED:20240723T101903Z
LAST-MODIFIED:20240723T103739Z
UID:35553-1721606400-1734911999@www.st-georges-de-commiers.fr
SUMMARY:Travaux Alimentation en eau potable
DESCRIPTION:A partir du 22 juillet et pour une période de 5 mois\, La Régie de l’eau potable et de l’assainissement de Grenoble Alpes Métropole procède à des travaux de pose d’une conduite d’adduction en eau potable et renouvellement du réseau de distribution sur le secteur des Chauvets. \nLire l’article
URL:https://www.st-georges-de-commiers.fr/agenda/travaux-alimentation-en-eau-potable/
LOCATION:secteur des Chauvets
CATEGORIES:Mairie
ATTACH;FMTTYPE=image/jpeg:https://www.st-georges-de-commiers.fr/wp-content/uploads/2024/07/st-georges-scaled-e1721730995399.jpg
END:VEVENT
BEGIN:VEVENT
DTSTART;TZID=Europe/Paris:20241108T133000
DTEND;TZID=Europe/Paris:20241108T163000
DTSTAMP:20260419T155334
CREATED:20240429T094058Z
LAST-MODIFIED:20240429T094058Z
UID:34334-1731072600-1731083400@www.st-georges-de-commiers.fr
SUMMARY:Passage du bus France service
DESCRIPTION:Le bus France service est de passage à Saint Georges de Commiers le vendredi 08 novembre 2024 de 13h30 à 16h30 sur le parking de la mairie. \nPlus d’infos sur l’événement
URL:https://www.st-georges-de-commiers.fr/agenda/passage-du-bus-france-service-6/
LOCATION:Parking de la mairie\, Rue de la mairie\, Saint Georges de Commiers\, 38450\, France
ATTACH;FMTTYPE=image/png:https://www.st-georges-de-commiers.fr/wp-content/uploads/2024/04/Bus-france-service.png
END:VEVENT
BEGIN:VEVENT
DTSTART;TZID=Europe/Paris:20241111T104500
DTEND;TZID=Europe/Paris:20241111T170000
DTSTAMP:20260419T155334
CREATED:20241031T133124Z
LAST-MODIFIED:20241031T135305Z
UID:35870-1731321900-1731344400@www.st-georges-de-commiers.fr
SUMMARY:COMMÉMORATION DU 11 NOVEMBRE
DESCRIPTION:Le 11 novembre marque une journée de mémoire dédiée à tous les soldats tombés pour la France. Saint Georges de Commiers organise des cérémonies durant cette journée. \nDéroulement des cérémonies :\n– 10h45 départ pour la Place du Plâtre\n– 11h hommage aux combattants des troupes de montagnes\n– 11h20 cortège en Mairie et déplacement vers le monument aux morts\n– 11h45 cérémonie au monument aux morts de Saint Georges de Commiers \nUne délégation militaire sera présente\, accompagnée par la participation de la chorale du DRAC’ART.
URL:https://www.st-georges-de-commiers.fr/agenda/commemoration-du-11-novembre/
LOCATION:Commune de St Georges de Commiers\, Saint Georges de Commiers\, 38450\, France
ATTACH;FMTTYPE=image/png:https://www.st-georges-de-commiers.fr/wp-content/uploads/2024/10/11-novembre.png
END:VEVENT
BEGIN:VEVENT
DTSTART;TZID=Europe/Paris:20241122T180000
DTEND;TZID=Europe/Paris:20241122T180000
DTSTAMP:20260419T155334
CREATED:20241118T144824Z
LAST-MODIFIED:20241118T144908Z
UID:35948-1732298400-1732298400@www.st-georges-de-commiers.fr
SUMMARY:BEAUJOLAIS NOUVEAU
DESCRIPTION:VENDREDI 22 NOVEMBRE \nà partir de 18h \nSur le parvis de la Mairie ou en salle des fêtes en cas de pluie\, \nVenez déguster le « Beaujolais Nouveau »\nLe Comité des Fêtes vous propose le diot frites avec un verre de vin pour 8 € \nAmbiance musicale \n  \n 
URL:https://www.st-georges-de-commiers.fr/agenda/beaujolais-nouveau/
LOCATION:Salle des fêtes\, Rue de la mairie\, Saint Georges de Commiers\, 38450\, France
CATEGORIES:associations
ATTACH;FMTTYPE=image/png:https://www.st-georges-de-commiers.fr/wp-content/uploads/2024/11/Beaujolais-Nouveau.png
END:VEVENT
BEGIN:VEVENT
DTSTART;TZID=Europe/Paris:20241126T200000
DTEND;TZID=Europe/Paris:20241126T213000
DTSTAMP:20260419T155334
CREATED:20241121T095441Z
LAST-MODIFIED:20241121T095441Z
UID:35965-1732651200-1732656600@www.st-georges-de-commiers.fr
SUMMARY:Conseil municipal
DESCRIPTION:Plus d’infos sur l’événement
URL:https://www.st-georges-de-commiers.fr/agenda/conseil-municipal-5/
LOCATION:Salle du Conseil\, Rue de la mairie\, Saint Georges de Commiers\, 38450\, France
ATTACH;FMTTYPE=image/png:https://www.st-georges-de-commiers.fr/wp-content/uploads/2024/11/Conseil-municipal-novembre.png
END:VEVENT
BEGIN:VEVENT
DTSTART;TZID=Europe/Paris:20241129T183000
DTEND;TZID=Europe/Paris:20241129T210000
DTSTAMP:20260419T155334
CREATED:20241118T134818Z
LAST-MODIFIED:20241118T134818Z
UID:35933-1732905000-1732914000@www.st-georges-de-commiers.fr
SUMMARY:Illumination du cèdre
DESCRIPTION:Avec la participation de la Chorale Drac’art et les danseuses de Seulua \nRendez-vous sur la place de la Gare\, autour du vin chaud et des marrons grillés \nVENDREDI 29 NOVEMBRE à partir de 18h30
URL:https://www.st-georges-de-commiers.fr/agenda/illumination-du-cedre/
LOCATION:place de la Gare\, 99 Rue de la Gare\, 38450 Saint-Georges-de-Commiers\, ST GEORGES DE COMMIERS\, 38450\, France
CATEGORIES:Mairie
ATTACH;FMTTYPE=image/png:https://www.st-georges-de-commiers.fr/wp-content/uploads/2024/11/2024-final.png
END:VEVENT
BEGIN:VEVENT
DTSTART;TZID=Europe/Paris:20241130T193000
DTEND;TZID=Europe/Paris:20241130T223000
DTSTAMP:20260419T155334
CREATED:20241118T135814Z
LAST-MODIFIED:20241118T135814Z
UID:35941-1732995000-1733005800@www.st-georges-de-commiers.fr
SUMMARY:Film de montagne
DESCRIPTION:Le club de grimpe organise la troisième édition de la soirée « Film de Montagne » le samedi 30 Novembre 2024\n\n\n\n\n\nAu programme :\n\nUne sélection de 5 films autour de l’alpinisme\, de l’escalade et du ski. Venez partager ce moment avec nous et plongez dans des aventures en haute montagne !\nDétails de l’événement disponibles ici : Programme de la soirée.\n\n\n\n\nAppel à votre contribution : \n\n\nNous organisons une collecte pour le Téléthon\, en collaboration avec la coordinatrice de notre secteur. Vous pourrez ainsi faire un don sur place pour soutenir cette belle cause !\n🥛 Pensez aux gestions responsables : pour limiter les déchets\, merci d’apporter vos verres !\n\n\n\n \nInfos pratiques :  \n \n📅 Quand : Samedi 30 novembre – début de la projection à 19h30\n📍 Où : Salle des fêtes de Saint Georges de Commiers (au-dessus de la mairie)\n👥 Pour qui : Adultes et adolescents\n🍻 Buvette : Ouverte avant les projections (dès 18h30) et pendant l’entracte\n\n💸 Tarif : Entrée gratuite
URL:https://www.st-georges-de-commiers.fr/agenda/film-de-montagne/
LOCATION:Salle des fêtes\, Rue de la mairie\, Saint Georges de Commiers\, 38450\, France
CATEGORIES:associations
ATTACH;FMTTYPE=image/png:https://www.st-georges-de-commiers.fr/wp-content/uploads/2024/11/Affiche-soiree-montagne-AESGC-30.11.242.png
END:VEVENT
END:VCALENDAR