BEGIN:VCALENDAR
VERSION:2.0
PRODID:-//St Georges de Commiers - ECPv6.15.17//NONSGML v1.0//EN
CALSCALE:GREGORIAN
METHOD:PUBLISH
X-ORIGINAL-URL:https://www.st-georges-de-commiers.fr
X-WR-CALDESC:Évènements pour St Georges de Commiers
REFRESH-INTERVAL;VALUE=DURATION:PT1H
X-Robots-Tag:noindex
X-PUBLISHED-TTL:PT1H
BEGIN:VTIMEZONE
TZID:Europe/Paris
BEGIN:DAYLIGHT
TZOFFSETFROM:+0100
TZOFFSETTO:+0200
TZNAME:CEST
DTSTART:20250330T010000
END:DAYLIGHT
BEGIN:STANDARD
TZOFFSETFROM:+0200
TZOFFSETTO:+0100
TZNAME:CET
DTSTART:20251026T010000
END:STANDARD
BEGIN:DAYLIGHT
TZOFFSETFROM:+0100
TZOFFSETTO:+0200
TZNAME:CEST
DTSTART:20260329T010000
END:DAYLIGHT
BEGIN:STANDARD
TZOFFSETFROM:+0200
TZOFFSETTO:+0100
TZNAME:CET
DTSTART:20261025T010000
END:STANDARD
BEGIN:DAYLIGHT
TZOFFSETFROM:+0100
TZOFFSETTO:+0200
TZNAME:CEST
DTSTART:20270328T010000
END:DAYLIGHT
BEGIN:STANDARD
TZOFFSETFROM:+0200
TZOFFSETTO:+0100
TZNAME:CET
DTSTART:20271031T010000
END:STANDARD
END:VTIMEZONE
BEGIN:VEVENT
DTSTART;TZID=Europe/Paris:20260219T133000
DTEND;TZID=Europe/Paris:20260219T163000
DTSTAMP:20260422T161335
CREATED:20260219T150806Z
LAST-MODIFIED:20260219T150806Z
UID:38329-1771507800-1771518600@www.st-georges-de-commiers.fr
SUMMARY:Passage du Bus France Service
DESCRIPTION:Le bus France service est de passage à Saint-Georges-de-Commiers le vendredi 6 septembre 2026 de 13h30 à 16h30\, rendez-vous à la mairie\, en salle des mariages.
URL:https://www.st-georges-de-commiers.fr/agenda/passage-du-bus-france-service-11/
LOCATION:Salle du Conseil\, Rue de la mairie\, Saint Georges de Commiers\, 38450\, France
ATTACH;FMTTYPE=image/png:https://www.st-georges-de-commiers.fr/wp-content/uploads/2024/04/Bus-france-service.png
END:VEVENT
END:VCALENDAR