BEGIN:VCALENDAR
VERSION:2.0
PRODID:-//St Georges de Commiers - ECPv6.15.17//NONSGML v1.0//EN
CALSCALE:GREGORIAN
METHOD:PUBLISH
X-ORIGINAL-URL:https://www.st-georges-de-commiers.fr
X-WR-CALDESC:Évènements pour St Georges de Commiers
REFRESH-INTERVAL;VALUE=DURATION:PT1H
X-Robots-Tag:noindex
X-PUBLISHED-TTL:PT1H
BEGIN:VTIMEZONE
TZID:Europe/Paris
BEGIN:DAYLIGHT
TZOFFSETFROM:+0100
TZOFFSETTO:+0200
TZNAME:CEST
DTSTART:20250330T010000
END:DAYLIGHT
BEGIN:STANDARD
TZOFFSETFROM:+0200
TZOFFSETTO:+0100
TZNAME:CET
DTSTART:20251026T010000
END:STANDARD
BEGIN:DAYLIGHT
TZOFFSETFROM:+0100
TZOFFSETTO:+0200
TZNAME:CEST
DTSTART:20260329T010000
END:DAYLIGHT
BEGIN:STANDARD
TZOFFSETFROM:+0200
TZOFFSETTO:+0100
TZNAME:CET
DTSTART:20261025T010000
END:STANDARD
BEGIN:DAYLIGHT
TZOFFSETFROM:+0100
TZOFFSETTO:+0200
TZNAME:CEST
DTSTART:20270328T010000
END:DAYLIGHT
BEGIN:STANDARD
TZOFFSETFROM:+0200
TZOFFSETTO:+0100
TZNAME:CET
DTSTART:20271031T010000
END:STANDARD
END:VTIMEZONE
BEGIN:VEVENT
DTSTART;TZID=Europe/Paris:20260206T133000
DTEND;TZID=Europe/Paris:20260206T163000
DTSTAMP:20260426T020138
CREATED:20260204T105120Z
LAST-MODIFIED:20260204T105152Z
UID:38272-1770384600-1770395400@www.st-georges-de-commiers.fr
SUMMARY:Passage France Services
DESCRIPTION:BUS FRANCE SERVICES\n\n\n*BUS FRANCE SERVICES*\nÀ vos agendas\, prochain passage :\n Vendredi 12 septembre\n De 13h30 à 16h30\n Salle des mariages\n Pour en savoir plus : https://www.st-georges-de-commiers.fr/2026/02/04/passage-du-bus-france-service-le-06-02-26-a-st-georges/
URL:https://www.st-georges-de-commiers.fr/agenda/passage-france-services/
LOCATION:Salle du Conseil\, Rue de la mairie\, Saint Georges de Commiers\, 38450\, France
END:VEVENT
END:VCALENDAR