BEGIN:VCALENDAR
VERSION:2.0
PRODID:-//St Georges de Commiers - ECPv6.15.17//NONSGML v1.0//EN
CALSCALE:GREGORIAN
METHOD:PUBLISH
X-ORIGINAL-URL:https://www.st-georges-de-commiers.fr
X-WR-CALDESC:Évènements pour St Georges de Commiers
REFRESH-INTERVAL;VALUE=DURATION:PT1H
X-Robots-Tag:noindex
X-PUBLISHED-TTL:PT1H
BEGIN:VTIMEZONE
TZID:Europe/Paris
BEGIN:DAYLIGHT
TZOFFSETFROM:+0100
TZOFFSETTO:+0200
TZNAME:CEST
DTSTART:20250330T010000
END:DAYLIGHT
BEGIN:STANDARD
TZOFFSETFROM:+0200
TZOFFSETTO:+0100
TZNAME:CET
DTSTART:20251026T010000
END:STANDARD
BEGIN:DAYLIGHT
TZOFFSETFROM:+0100
TZOFFSETTO:+0200
TZNAME:CEST
DTSTART:20260329T010000
END:DAYLIGHT
BEGIN:STANDARD
TZOFFSETFROM:+0200
TZOFFSETTO:+0100
TZNAME:CET
DTSTART:20261025T010000
END:STANDARD
BEGIN:DAYLIGHT
TZOFFSETFROM:+0100
TZOFFSETTO:+0200
TZNAME:CEST
DTSTART:20270328T010000
END:DAYLIGHT
BEGIN:STANDARD
TZOFFSETFROM:+0200
TZOFFSETTO:+0100
TZNAME:CET
DTSTART:20271031T010000
END:STANDARD
END:VTIMEZONE
BEGIN:VEVENT
DTSTART;TZID=Europe/Paris:20260205T200000
DTEND;TZID=Europe/Paris:20260205T213000
DTSTAMP:20260426T043324
CREATED:20260130T091145Z
LAST-MODIFIED:20260130T091145Z
UID:38258-1770321600-1770327000@www.st-georges-de-commiers.fr
SUMMARY:Conseil municipal
DESCRIPTION:Pour plus d’informations
URL:https://www.st-georges-de-commiers.fr/agenda/conseil-municipal-11/
LOCATION:Salle du Conseil\, Rue de la mairie\, Saint Georges de Commiers\, 38450\, France
ATTACH;FMTTYPE=image/png:https://www.st-georges-de-commiers.fr/wp-content/uploads/2026/01/CM-calendrier-site-5-fevrier.png
END:VEVENT
END:VCALENDAR