BEGIN:VCALENDAR
VERSION:2.0
PRODID:-//St Georges de Commiers - ECPv6.15.17//NONSGML v1.0//EN
CALSCALE:GREGORIAN
METHOD:PUBLISH
X-ORIGINAL-URL:https://www.st-georges-de-commiers.fr
X-WR-CALDESC:Évènements pour St Georges de Commiers
REFRESH-INTERVAL;VALUE=DURATION:PT1H
X-Robots-Tag:noindex
X-PUBLISHED-TTL:PT1H
BEGIN:VTIMEZONE
TZID:Europe/Paris
BEGIN:DAYLIGHT
TZOFFSETFROM:+0100
TZOFFSETTO:+0200
TZNAME:CEST
DTSTART:20240331T010000
END:DAYLIGHT
BEGIN:STANDARD
TZOFFSETFROM:+0200
TZOFFSETTO:+0100
TZNAME:CET
DTSTART:20241027T010000
END:STANDARD
BEGIN:DAYLIGHT
TZOFFSETFROM:+0100
TZOFFSETTO:+0200
TZNAME:CEST
DTSTART:20250330T010000
END:DAYLIGHT
BEGIN:STANDARD
TZOFFSETFROM:+0200
TZOFFSETTO:+0100
TZNAME:CET
DTSTART:20251026T010000
END:STANDARD
BEGIN:DAYLIGHT
TZOFFSETFROM:+0100
TZOFFSETTO:+0200
TZNAME:CEST
DTSTART:20260329T010000
END:DAYLIGHT
BEGIN:STANDARD
TZOFFSETFROM:+0200
TZOFFSETTO:+0100
TZNAME:CET
DTSTART:20261025T010000
END:STANDARD
END:VTIMEZONE
BEGIN:VEVENT
DTSTART;TZID=Europe/Paris:20250906T140000
DTEND;TZID=Europe/Paris:20250906T170000
DTSTAMP:20260421T160028
CREATED:20250819T084133Z
LAST-MODIFIED:20250822T092451Z
UID:37508-1757167200-1757178000@www.st-georges-de-commiers.fr
SUMMARY:Forum des Associations 2025
DESCRIPTION:FORUM DES ASSOCIATIONS \nSamedi 6 septembre \nde 14h à 18h \nEspace R. Grimoud
URL:https://www.st-georges-de-commiers.fr/agenda/forum-des-associations-2025/
LOCATION:Espace Raymond Grimoud\, Rue de la mairie\, Saint Georges de Commiers\, 38450\, France
ATTACH;FMTTYPE=image/png:https://www.st-georges-de-commiers.fr/wp-content/uploads/2025/08/Forum-des-associations.png
END:VEVENT
END:VCALENDAR