BEGIN:VCALENDAR
VERSION:2.0
PRODID:-//St Georges de Commiers - ECPv6.15.17//NONSGML v1.0//EN
CALSCALE:GREGORIAN
METHOD:PUBLISH
X-ORIGINAL-URL:https://www.st-georges-de-commiers.fr
X-WR-CALDESC:Évènements pour St Georges de Commiers
REFRESH-INTERVAL;VALUE=DURATION:PT1H
X-Robots-Tag:noindex
X-PUBLISHED-TTL:PT1H
BEGIN:VTIMEZONE
TZID:Europe/Paris
BEGIN:DAYLIGHT
TZOFFSETFROM:+0100
TZOFFSETTO:+0200
TZNAME:CEST
DTSTART:20230326T010000
END:DAYLIGHT
BEGIN:STANDARD
TZOFFSETFROM:+0200
TZOFFSETTO:+0100
TZNAME:CET
DTSTART:20231029T010000
END:STANDARD
BEGIN:DAYLIGHT
TZOFFSETFROM:+0100
TZOFFSETTO:+0200
TZNAME:CEST
DTSTART:20240331T010000
END:DAYLIGHT
BEGIN:STANDARD
TZOFFSETFROM:+0200
TZOFFSETTO:+0100
TZNAME:CET
DTSTART:20241027T010000
END:STANDARD
BEGIN:DAYLIGHT
TZOFFSETFROM:+0100
TZOFFSETTO:+0200
TZNAME:CEST
DTSTART:20250330T010000
END:DAYLIGHT
BEGIN:STANDARD
TZOFFSETFROM:+0200
TZOFFSETTO:+0100
TZNAME:CET
DTSTART:20251026T010000
END:STANDARD
END:VTIMEZONE
BEGIN:VEVENT
DTSTART;VALUE=DATE:20240722
DTEND;VALUE=DATE:20241223
DTSTAMP:20260419T193809
CREATED:20240723T101903Z
LAST-MODIFIED:20240723T103739Z
UID:35553-1721606400-1734911999@www.st-georges-de-commiers.fr
SUMMARY:Travaux Alimentation en eau potable
DESCRIPTION:A partir du 22 juillet et pour une période de 5 mois\, La Régie de l’eau potable et de l’assainissement de Grenoble Alpes Métropole procède à des travaux de pose d’une conduite d’adduction en eau potable et renouvellement du réseau de distribution sur le secteur des Chauvets. \nLire l’article
URL:https://www.st-georges-de-commiers.fr/agenda/travaux-alimentation-en-eau-potable/
LOCATION:secteur des Chauvets
CATEGORIES:Mairie
ATTACH;FMTTYPE=image/jpeg:https://www.st-georges-de-commiers.fr/wp-content/uploads/2024/07/st-georges-scaled-e1721730995399.jpg
END:VEVENT
BEGIN:VEVENT
DTSTART;TZID=Europe/Paris:20241205T080000
DTEND;TZID=Europe/Paris:20241205T193000
DTSTAMP:20260419T193809
CREATED:20241127T141722Z
LAST-MODIFIED:20241127T141722Z
UID:35983-1733385600-1733427000@www.st-georges-de-commiers.fr
SUMMARY:Don de sang et navette pour don de plasma
DESCRIPTION:Une collecte de sang est prévue à Vif\, à la salle polyvalente Louis Maisonnat\, de 8h30 à 12h et de 16h à 19h30.\nCliquez ici pour prendre rendez-vous. \nUne navette pour le don de plasma est également prévue à cette même salle pour un départ à 13h20 et un retour à 16h45.\nPour vous inscrire : 06.60.32.99.13
URL:https://www.st-georges-de-commiers.fr/agenda/don-de-sang-et-navette-pour-don-de-plasma/
LOCATION:Salle polyvalente Louis Maisonnat VIF\, 43 Rue du 19 Mars 1962\, Vif\, Isère\, 38450\, France
ATTACH;FMTTYPE=image/png:https://www.st-georges-de-commiers.fr/wp-content/uploads/2024/11/DON-DE-SANG.png
END:VEVENT
END:VCALENDAR